BEGIN:VCALENDAR
VERSION:2.0
PRODID:-//TTC-Tiefenlauter - ECPv6.15.20//NONSGML v1.0//EN
CALSCALE:GREGORIAN
METHOD:PUBLISH
X-ORIGINAL-URL:https://ttctiefenlauter.de
X-WR-CALDESC:Veranstaltungen für TTC-Tiefenlauter
REFRESH-INTERVAL;VALUE=DURATION:PT1H
X-Robots-Tag:noindex
X-PUBLISHED-TTL:PT1H
BEGIN:VTIMEZONE
TZID:Europe/Berlin
BEGIN:DAYLIGHT
TZOFFSETFROM:+0100
TZOFFSETTO:+0200
TZNAME:CEST
DTSTART:20220327T010000
END:DAYLIGHT
BEGIN:STANDARD
TZOFFSETFROM:+0200
TZOFFSETTO:+0100
TZNAME:CET
DTSTART:20221030T010000
END:STANDARD
BEGIN:DAYLIGHT
TZOFFSETFROM:+0100
TZOFFSETTO:+0200
TZNAME:CEST
DTSTART:20230326T010000
END:DAYLIGHT
BEGIN:STANDARD
TZOFFSETFROM:+0200
TZOFFSETTO:+0100
TZNAME:CET
DTSTART:20231029T010000
END:STANDARD
BEGIN:DAYLIGHT
TZOFFSETFROM:+0100
TZOFFSETTO:+0200
TZNAME:CEST
DTSTART:20240331T010000
END:DAYLIGHT
BEGIN:STANDARD
TZOFFSETFROM:+0200
TZOFFSETTO:+0100
TZNAME:CET
DTSTART:20241027T010000
END:STANDARD
END:VTIMEZONE
BEGIN:VEVENT
DTSTART;TZID=Europe/Berlin:20230428T163000
DTEND;TZID=Europe/Berlin:20230428T193000
DTSTAMP:20260424T125627
CREATED:20230419T173323Z
LAST-MODIFIED:20230419T173323Z
UID:780-1682699400-1682710200@ttctiefenlauter.de
SUMMARY:Blutspende
DESCRIPTION:Am 28.04.2023 findet zwischen 16:30 Uhr und 19:30 Uhr im Sportheim wieder eine Blutspendeaktion statt. \nKommt vorbei und rettet Leben!
URL:https://ttctiefenlauter.de/event/blutspende/
END:VEVENT
END:VCALENDAR