BEGIN:VCALENDAR
VERSION:2.0
PRODID:-//TTC-Tiefenlauter - ECPv6.15.20//NONSGML v1.0//EN
CALSCALE:GREGORIAN
METHOD:PUBLISH
X-ORIGINAL-URL:https://ttctiefenlauter.de
X-WR-CALDESC:Veranstaltungen für TTC-Tiefenlauter
REFRESH-INTERVAL;VALUE=DURATION:PT1H
X-Robots-Tag:noindex
X-PUBLISHED-TTL:PT1H
BEGIN:VTIMEZONE
TZID:Europe/Berlin
BEGIN:DAYLIGHT
TZOFFSETFROM:+0100
TZOFFSETTO:+0200
TZNAME:CEST
DTSTART:20220327T010000
END:DAYLIGHT
BEGIN:STANDARD
TZOFFSETFROM:+0200
TZOFFSETTO:+0100
TZNAME:CET
DTSTART:20221030T010000
END:STANDARD
BEGIN:DAYLIGHT
TZOFFSETFROM:+0100
TZOFFSETTO:+0200
TZNAME:CEST
DTSTART:20230326T010000
END:DAYLIGHT
BEGIN:STANDARD
TZOFFSETFROM:+0200
TZOFFSETTO:+0100
TZNAME:CET
DTSTART:20231029T010000
END:STANDARD
BEGIN:DAYLIGHT
TZOFFSETFROM:+0100
TZOFFSETTO:+0200
TZNAME:CEST
DTSTART:20240331T010000
END:DAYLIGHT
BEGIN:STANDARD
TZOFFSETFROM:+0200
TZOFFSETTO:+0100
TZNAME:CET
DTSTART:20241027T010000
END:STANDARD
END:VTIMEZONE
BEGIN:VEVENT
DTSTART;TZID=Europe/Berlin:20230528T100000
DTEND;TZID=Europe/Berlin:20230528T203000
DTSTAMP:20260424T102421
CREATED:20230430T162515Z
LAST-MODIFIED:20230430T162515Z
UID:791-1685268000-1685305800@ttctiefenlauter.de
SUMMARY:Dorffest 2023
DESCRIPTION:Am 28. Mai 2023 findet wieder unser beliebtes Dorffest ab 10 Uhr am Sportheim in Tiefenlauter statt. \nAb 10 Uhr gibt es ein Weißwurstfrühstück\, ab 11:45 Uhr Krustenbraten\, Grillbauch und Käsespätzle\, außerdem Bratwürste\, Steaks\, Kaffee und Kochen. \nWir haben eine Indoarhüpfburg und weitere Spielgeräte für Kinder. Das beliebte Entenrennen auf der Lauter ist natürlich auch wieder auf dem Programm. \nWir freuen uns auf euer Kommen und das bei jedem Wetter! \n(Bei schlechtem Wetter feiern wir in den beiden Hallen)
URL:https://ttctiefenlauter.de/event/dorffest-2023/
END:VEVENT
END:VCALENDAR