BEGIN:VCALENDAR
VERSION:2.0
PRODID:-//TTC-Tiefenlauter - ECPv6.15.20//NONSGML v1.0//EN
CALSCALE:GREGORIAN
METHOD:PUBLISH
X-WR-CALNAME:TTC-Tiefenlauter
X-ORIGINAL-URL:https://ttctiefenlauter.de
X-WR-CALDESC:Veranstaltungen für TTC-Tiefenlauter
REFRESH-INTERVAL;VALUE=DURATION:PT1H
X-Robots-Tag:noindex
X-PUBLISHED-TTL:PT1H
BEGIN:VTIMEZONE
TZID:Europe/Berlin
BEGIN:DAYLIGHT
TZOFFSETFROM:+0100
TZOFFSETTO:+0200
TZNAME:CEST
DTSTART:20220327T010000
END:DAYLIGHT
BEGIN:STANDARD
TZOFFSETFROM:+0200
TZOFFSETTO:+0100
TZNAME:CET
DTSTART:20221030T010000
END:STANDARD
BEGIN:DAYLIGHT
TZOFFSETFROM:+0100
TZOFFSETTO:+0200
TZNAME:CEST
DTSTART:20230326T010000
END:DAYLIGHT
BEGIN:STANDARD
TZOFFSETFROM:+0200
TZOFFSETTO:+0100
TZNAME:CET
DTSTART:20231029T010000
END:STANDARD
BEGIN:DAYLIGHT
TZOFFSETFROM:+0100
TZOFFSETTO:+0200
TZNAME:CEST
DTSTART:20240331T010000
END:DAYLIGHT
BEGIN:STANDARD
TZOFFSETFROM:+0200
TZOFFSETTO:+0100
TZNAME:CET
DTSTART:20241027T010000
END:STANDARD
END:VTIMEZONE
BEGIN:VEVENT
DTSTART;VALUE=DATE:20230929
DTEND;VALUE=DATE:20231003
DTSTAMP:20260421T232458
CREATED:20230912T153206Z
LAST-MODIFIED:20230912T153206Z
UID:901-1695945600-1696291199@ttctiefenlauter.de
SUMMARY:Kirchweih 2023
DESCRIPTION:
URL:https://ttctiefenlauter.de/event/kirchweih-2023/
END:VEVENT
BEGIN:VEVENT
DTSTART;TZID=Europe/Berlin:20231006T163000
DTEND;TZID=Europe/Berlin:20231006T193000
DTSTAMP:20260421T232458
CREATED:20230912T153455Z
LAST-MODIFIED:20230912T153455Z
UID:903-1696609800-1696620600@ttctiefenlauter.de
SUMMARY:Blutspende
DESCRIPTION:
URL:https://ttctiefenlauter.de/event/blutspende-2/
END:VEVENT
BEGIN:VEVENT
DTSTART;VALUE=DATE:20231008
DTEND;VALUE=DATE:20231009
DTSTAMP:20260421T232458
CREATED:20230912T153541Z
LAST-MODIFIED:20230912T153541Z
UID:905-1696723200-1696809599@ttctiefenlauter.de
SUMMARY:Landtagswahl
DESCRIPTION:
URL:https://ttctiefenlauter.de/event/landtagswahl/
END:VEVENT
BEGIN:VEVENT
DTSTART;TZID=Europe/Berlin:20231027T193000
DTEND;TZID=Europe/Berlin:20231027T193000
DTSTAMP:20260421T232458
CREATED:20230912T153652Z
LAST-MODIFIED:20230912T153652Z
UID:907-1698435000-1698435000@ttctiefenlauter.de
SUMMARY:Theater
DESCRIPTION:
URL:https://ttctiefenlauter.de/event/theater/
END:VEVENT
BEGIN:VEVENT
DTSTART;TZID=Europe/Berlin:20231028T193000
DTEND;TZID=Europe/Berlin:20231028T193000
DTSTAMP:20260421T232458
CREATED:20230912T153748Z
LAST-MODIFIED:20230912T153748Z
UID:909-1698521400-1698521400@ttctiefenlauter.de
SUMMARY:Theater
DESCRIPTION:
URL:https://ttctiefenlauter.de/event/theater-2/
END:VEVENT
END:VCALENDAR